BEGIN:VCALENDAR
VERSION:2.0
PRODID:-//Eva Viviendo Naturalmente - ECPv6.15.17//NONSGML v1.0//EN
CALSCALE:GREGORIAN
METHOD:PUBLISH
X-ORIGINAL-URL:https://evaviviendonaturalmente.com
X-WR-CALDESC:Eventos para Eva Viviendo Naturalmente
REFRESH-INTERVAL;VALUE=DURATION:PT1H
X-Robots-Tag:noindex
X-PUBLISHED-TTL:PT1H
BEGIN:VTIMEZONE
TZID:UTC
BEGIN:STANDARD
TZOFFSETFROM:+0000
TZOFFSETTO:+0000
TZNAME:UTC
DTSTART:20250101T000000
END:STANDARD
END:VTIMEZONE
BEGIN:VEVENT
DTSTART;TZID=UTC:20260411T160000
DTEND;TZID=UTC:20260411T180000
DTSTAMP:20260423T150728
CREATED:20260326T113208Z
LAST-MODIFIED:20260326T113208Z
UID:10000003-1775923200-1775930400@evaviviendonaturalmente.com
SUMMARY:Ven a crear tu champú sólido personalizado
DESCRIPTION:
URL:https://evaviviendonaturalmente.com/event/ven-a-crear-tu-champu-solido-personalizado/
ATTACH;FMTTYPE=image/jpeg:https://evaviviendonaturalmente.com/wp-content/uploads/2026/03/WhatsApp-Image-2026-03-18-at-20.20.38-1.jpeg
END:VEVENT
BEGIN:VEVENT
DTSTART;VALUE=DATE:20260327
DTEND;VALUE=DATE:20260330
DTSTAMP:20260423T150728
CREATED:20260326T113440Z
LAST-MODIFIED:20260326T113440Z
UID:10000004-1774569600-1774828799@evaviviendonaturalmente.com
SUMMARY:Una fira singular\, un territori que inspira
DESCRIPTION:
URL:https://evaviviendonaturalmente.com/event/una-fira-singular-un-territori-que-inspira/
ATTACH;FMTTYPE=image/jpeg:https://evaviviendonaturalmente.com/wp-content/uploads/2026/03/WhatsApp-Image-2026-03-20-at-08.59.03.jpeg
END:VEVENT
BEGIN:VEVENT
DTSTART;TZID=UTC:20260225T190000
DTEND;TZID=UTC:20260225T200000
DTSTAMP:20260423T150728
CREATED:20260122T184951Z
LAST-MODIFIED:20260122T184951Z
UID:10000001-1772046000-1772049600@evaviviendonaturalmente.com
SUMMARY:Taller de inciensos y sahumerios
DESCRIPTION:
URL:https://evaviviendonaturalmente.com/event/taller-de-inciensos-y-sahumerios/
LOCATION:Club Hogar Consciente
ATTACH;FMTTYPE=image/jpeg:https://evaviviendonaturalmente.com/wp-content/uploads/2026/01/WhatsApp-Image-2026-01-21-at-14.42.27.jpeg
END:VEVENT
END:VCALENDAR